BEGIN:VCALENDAR
PRODID:NingEventWidget-v1
VERSION:2.0
METHOD:PUBLISH
BEGIN:VEVENT
UID:4320450:Event:3911
DTSTAMP:20260425T190523Z
SUMMARY:17th Annual Hair O' The Dog After Party
DESCRIPTION:The Spring Garden Social Club Presents:The Official 17th A
 nnual Hair O The Dog After Party Saturday January 15th 10pm-6amFeaturi
 ng DJ Lee Jones and Dance PhillyComplimentary shuttle service will be 
 available from the Philadelphia Belle to Zee Bar beginning at 1am.All 
 VIP Ticket Holders will receive Complimentary Admission(Valid Only wit
 h your HOD Lanyard and Wristband)For bottle service reservations pleas
 e contact Buffy Varanese at (215)922-2994 x106 or buffy@zee-bar.com\n\
 nFor more information visit http://phillytodo.com/events/17th-annual-h
 air-o-the-dog-1
DTSTART:20110116T030000Z
DTEND:20110116T110000Z
CATEGORIES:after, party
LOCATION:Zee Bar Private Social Club
WEBSITE:http://www.zee-bar.com
URL:http://www.zee-bar.com
CONTACT:215-922-2994 x106
ORGANIZER;CN="Zee Bar Private Social Club":http://phillytodo.com/profi
 le/ZeeBarPrivateSocialClub
ATTACH;FMTTYPE="image/jpeg":http://storage.ning.com/topology/rest/1.0/
 file/get/3054953660?profile=original
ATTENDEE;ROLE=REQ-PARTICIPANT;PARTSTAT=ACCEPTED;RSVP=TRUE;CN="Zee Bar 
 Private Social Club":http://phillytodo.com/profile/ZeeBarPrivateSocial
 Club
END:VEVENT
END:VCALENDAR
