BEGIN:VCALENDAR
PRODID:NingEventWidget-v1
VERSION:2.0
METHOD:PUBLISH
BEGIN:VEVENT
UID:4320450:Event:35038
DTSTAMP:20260425T130727Z
SUMMARY:14th Annual Fitness for Hope
DESCRIPTION:Give yourself the gift of health and goodwill by stopping 
 by Sweat Fitness this Sunday for 14th Annual Fitness for Hope. Sweat's
  best trainers will offer four special donation classes in spinning, w
 onder track, boxing and personal training. Enter to win a raffle for a
  Breakaway Bike. Additionally, Santa can check off all the items on hi
 s gift list by purchasing a commemorative t-shirt, or winning some ite
 ms in the silent auction.  Raise or donate $50 or more, and receive a
  gym bag valued at $50.\n\nFor more information visit http://phillytod
 o.com/events/14th-annual-fitness-for-hope
DTSTART:20131124T150000Z
DTEND:20131124T180000Z
CATEGORIES:fitness, charity
LOCATION:Sweat Fitness
WEBSITE:http://sweatfitness.com/fitness-for-hope-sunday-november-24/
URL:http://sweatfitness.com/fitness-for-hope-sunday-november-24/
CONTACT:215-627-5600
ORGANIZER;CN="Aversa PR & Events":http://phillytodo.com/profile/KoryAv
 ersa277
ATTACH;FMTTYPE="image/jpeg":http://storage.ning.com/topology/rest/1.0/
 file/get/3054972447?profile=original
ATTENDEE;ROLE=REQ-PARTICIPANT;PARTSTAT=ACCEPTED;RSVP=TRUE;CN="Aversa P
 R & Events":http://phillytodo.com/profile/KoryAversa277
END:VEVENT
END:VCALENDAR
