BEGIN:VCALENDAR
PRODID:NingEventWidget-v1
VERSION:2.0
METHOD:PUBLISH
BEGIN:VEVENT
UID:4320450:Event:139802
DTSTAMP:20260425T143218Z
SUMMARY:: 12th Street Catering’s Valentine’s Day Virtual Cooking C
 lass
DESCRIPTION:Join 12th Street Catering for a Paella Virtual Cooking Cla
 ss to celebrate Valentine’s Day! Attendees will be guided with live 
 video instruction from executive chef Adam DeLosso during this one-hou
 r event. Each kit includes all necessary ingredients are and are avail
 able for onsite pickup, local delivery, and priority overnight shippin
 g. This virtual event takes place in your kitchen and is the perfect r
 eimagined date night! Celebrate the holiday of love by creating a culi
 nary masterpiece. Call 215-386-8595 or email info@12stcatering.com to 
 register.\n\nFor more information visit http://phillytodo.com/events/1
 2th-street-catering-s-valentine-s-day-virtual-cooking-class
DTSTART:20210212T223000Z
DTEND:20210212T233000Z
CATEGORIES:cooking, class
LOCATION:Zoom
WEBSITE:https://12stcatering.com/wp-content/uploads/2021/01/paella-cla
 ss-2021.pdf
URL:https://12stcatering.com/wp-content/uploads/2021/01/paella-class-2
 021.pdf
CONTACT:215-386-8595
ORGANIZER;CN="Bryan Chan":http://phillytodo.com/profile/BryanChan
ATTACH;FMTTYPE="image/jpeg":https://storage.ning.com/topology/rest/1.0
 /file/get/8466980867?profile=original
ATTENDEE;ROLE=REQ-PARTICIPANT;PARTSTAT=ACCEPTED;RSVP=TRUE;CN="Bryan Ch
 an":http://phillytodo.com/profile/BryanChan
END:VEVENT
END:VCALENDAR
