BEGIN:VCALENDAR
PRODID:NingEventWidget-v1
VERSION:2.0
METHOD:PUBLISH
BEGIN:VEVENT
UID:4320450:Event:170311
DTSTAMP:20260425T175526Z
SUMMARY:12th Street Catering’s Valentine’s Day Virtual Cooking Cla
 ss
DESCRIPTION:Join 12th Street Catering for a virtual Taste of Italy coo
 king class to celebrate Valentine’s Day. Attendees will cook a delic
 ious 3-course meal with live step-by-step instructions from Executive 
 Chef Adam DeLosso. The menu features an Italian-inspired Antipasti pla
 tter, a Tuscan petite filet & jumbo shrimp dish, with a delightful Tir
 amisu dessert to finish! Cooking class kits are available for onsite p
 ickup, local delivery, and priority overnight shipping. Registration m
 ust be completed by February 4, at 2 p.m.\n\nFor more information visi
 t http://phillytodo.com/events/12th-street-catering-s-valentine-s-day-
 virtual-cooking-class-1
DTSTART:20220211T230000Z
DTEND:20220212T003000Z
CATEGORIES:cooking, class
LOCATION:12 Street Catering
WEBSITE:https://12th-street-catering-virtual-cooking-classes.square.si
 te/product/Taste-of-Italy-Cooking-Class/59?cs=true&amp;cst=custom
URL:https://12th-street-catering-virtual-cooking-classes.square.site/p
 roduct/Taste-of-Italy-Cooking-Class/59?cs=true&amp;cst=custom
CONTACT:215-386-8595
ORGANIZER:12th Street Catering
ATTACH;FMTTYPE="image/jpeg":https://storage.ning.com/topology/rest/1.0
 /file/get/10024199496?profile=original
ATTENDEE;ROLE=REQ-PARTICIPANT;PARTSTAT=ACCEPTED;RSVP=TRUE;CN="Bryan Ch
 an":http://phillytodo.com/profile/BryanChan
END:VEVENT
END:VCALENDAR
