BEGIN:VCALENDAR
PRODID:NingEventWidget-v1
VERSION:2.0
METHOD:PUBLISH
BEGIN:VEVENT
UID:4320450:Event:51702
DTSTAMP:20260425T131259Z
SUMMARY:12th Annual East Passyunk Car Show and Street Festival
DESCRIPTION:Rev your engines! Vroom down to East Passyunk Avenue for t
 he 12th Annual East Passyunk Car Show & Street Festival on Sunday, Jul
 y 30, 2017, from 11:00am to 4:00pm. Over 140  antique, show, muscle a
 nd custom cars, trucks and motorcycles will be lined up between Broad 
 and Dickinson Streets. The street festival will feature live music, st
 reet vendors, rack sales, kids’ activities and the Bang! Boom! CRAFT
 ! Show.  Wine and dine among the cars as award-winning restaurants se
 rve street food and summertime drinks at festival prices.  Admission 
 is FREE for attendees and $20 for cars.  For more info, visit www.vis
 iteastpassyunk.com. Rain date: Sunday, August 6, 2017. \n\nFor more i
 nformation visit http://phillytodo.com/events/12th-annual-east-passyun
 k-car-show-and-street-festival
DTSTART:20170730T150000Z
DTEND:20170730T200000Z
CATEGORIES:car, show, and, festival
LOCATION:East Passyunk Avenue
WEBSITE:
URL:
CONTACT:2153361455
ORGANIZER:East Passyunk Avenue Business Improvement District
ATTACH;FMTTYPE="image/jpeg":http://storage.ning.com/topology/rest/1.0/
 file/get/3055009545?profile=original
ATTENDEE;ROLE=REQ-PARTICIPANT;PARTSTAT=ACCEPTED;RSVP=TRUE;CN="Aversa P
 R & Events":http://phillytodo.com/profile/KoryAversa277
END:VEVENT
END:VCALENDAR
