BEGIN:VCALENDAR
PRODID:NingEventWidget-v1
VERSION:2.0
METHOD:PUBLISH
BEGIN:VEVENT
UID:4320450:Event:34111
DTSTAMP:20260425T143439Z
SUMMARY:\"11:11\" Performs in Victory Beer Hall
DESCRIPTION:Join us as \"11:11\" rocks the stage live inside Victory B
 eer Hall starting at 8pm.Contact parties@xfinitylive.com to add your
  name to the guest list and to book your VIP Party during the show.Fre
 e parking is available after 8:05PM.\n\nFor more information visit htt
 p://phillytodo.com/events/11-11-performs-in-victory-beer-hall
DTSTART:20130818T000000Z
DTEND:20130818T060000Z
CATEGORIES:live, music
LOCATION:XFINITY Live! Philadelphia
WEBSITE:http://xfinitylive.com
URL:http://xfinitylive.com
CONTACT:215-609-1678
ORGANIZER;CN="Stepfanie McCaffrey":http://phillytodo.com/profile/Stepf
 anieMcCaffrey
ATTACH;FMTTYPE="image/jpeg":http://storage.ning.com/topology/rest/1.0/
 file/get/3054967191?profile=original
ATTENDEE;ROLE=REQ-PARTICIPANT;PARTSTAT=ACCEPTED;RSVP=TRUE;CN="Stepfani
 e McCaffrey":http://phillytodo.com/profile/StepfanieMcCaffrey
END:VEVENT
END:VCALENDAR
