BEGIN:VCALENDAR
PRODID:NingEventWidget-v1
VERSION:2.0
METHOD:PUBLISH
BEGIN:VEVENT
UID:4320450:Event:55131
DTSTAMP:20260425T131312Z
SUMMARY:10th Annual Strawberry Festival at Historic Strawberry Mansion
DESCRIPTION:Historic Strawberry Mansion celebrates its spring harvest 
 during the 10th Annual Strawberry Festival, featuring tours of the Man
 sion fruit orchard, where visitors can pick their own berries and free
  tours of Historic Strawberry Mansion. The Mansion beekeepers will be 
 on hand to give visitors open-hive beekeeping demonstrations and honey
  tastings. The fun continues throughout the afternoon with free, famil
 y-friendly crafts and games, and festival food.\n\nFor more informatio
 n visit http://phillytodo.com/events/10th-annual-strawberry-festival-a
 t-historic-strawberry-mansion
DTSTART:20180602T160000Z
DTEND:20180602T180000Z
CATEGORIES:festival
LOCATION:Historic Strawberry Mansion
WEBSITE:http://www.historicstrawberrymansion.com
URL:http://www.historicstrawberrymansion.com
CONTACT:
ORGANIZER;CN="Bryan Chan":http://phillytodo.com/profile/BryanChan
ATTACH;FMTTYPE="image/jpeg":http://storage.ning.com/topology/rest/1.0/
 file/get/3055015400?profile=original
ATTENDEE;ROLE=REQ-PARTICIPANT;PARTSTAT=ACCEPTED;RSVP=TRUE;CN="Bryan Ch
 an":http://phillytodo.com/profile/BryanChan
END:VEVENT
END:VCALENDAR
