BEGIN:VCALENDAR
PRODID:NingEventWidget-v1
VERSION:2.0
METHOD:PUBLISH
BEGIN:VEVENT
UID:4320450:Event:18210
DTSTAMP:20260425T175808Z
SUMMARY:10th Annual Philadelphia Affiliate of Susan G. Komen for the C
 ure Pink Tie Ball Extravaganza
DESCRIPTION:For the Delaware Valley's social elite - as well as every 
 man, woman and child who ever has been, is or will unite in the fight 
 against breast cancer - October 15, 2011 is all about the X. Why? B
 ecause that is the day the Philadelphia Affiliate of Susan G. Komen fo
 r the Cure® takes our second-largest annual fundraiser to the extrem
 e - with a goal of doubling our fundraising and our attendance. The
  10th anniversary Pink Tie Ball will feature silent and live auctions 
 with rare treasures and experiences valued at a minimum of $1,000, up 
 to $100,000; entertainment from the Crystals, Marvelettes & Shirelles;
  the chance experience the brand new multi-million dollar, 17,000-squa
 re-foot Cescaphe Vie dining, entertainment and banquet facility; and t
 he After X Party, especially for young professionals featuring Mix 106
 .1 DJ Robbie Rob.\nFor more information and ticket information visit w
 ww.komenphiladelphia.org/ptb or call 215-238-8900.\n\nFor more informa
 tion visit http://phillytodo.com/events/10th-annual-philadelphia-affil
 iate-of-susan-g-komen-for-the-cure
DTSTART:20111015T220000Z
DTEND:20111016T060000Z
CATEGORIES:fundraiser
LOCATION:Vie
WEBSITE:http://www.komenphiladelphia.org/ptb
URL:http://www.komenphiladelphia.org/ptb
CONTACT:215-238-8900
ORGANIZER:Komen Philadelphia
ATTACH;FMTTYPE="image/jpeg":
ATTENDEE;ROLE=REQ-PARTICIPANT;PARTSTAT=ACCEPTED;RSVP=TRUE;CN="Amy Lesh
 ko":http://phillytodo.com/profile/AmyLeshko
END:VEVENT
END:VCALENDAR
