BEGIN:VCALENDAR
PRODID:NingEventWidget-v1
VERSION:2.0
METHOD:PUBLISH
BEGIN:VEVENT
UID:4320450:Event:32313
DTSTAMP:20260425T175309Z
SUMMARY:104.5 Summer Block Parties at the Piazza
DESCRIPTION:For the last few summers, The Piazza in Northern Liberties
  has treated us to a slew of free concerts located in the acoustically
  majestic \"courtyard\" that sits in the middle of the complex.\nSince
  2010, the Summer Block Party has boasted acts such as Imagine Dragons
 , AWOLNATION, Of Monsters and Men, Switchfoot, Neon Trees, Matt and Ki
 m, Young the Giant, and Company of Theives; even Eve6 made an appearan
 ce! That's not too shabby for a brand new event located in between a c
 ouple of apartment complexes. It's almost 1/3 of a Bonnaroo lineup, an
 d it's all FREE.\n\nThat's correct, zero dollars. This year, zero doll
 ars gets you within a stone's throw of some of the best upcoming and e
 stablished acts in music. This years lineup includes Atlas Genius, Met
 irc and Cold War Kids, with many more bands to be named.\n\nThe first 
 of this summers series is this Saturday, May 4th, where we'll see perf
 ormances from Family of the Year, the aforementioned Atlas Genius, and
  Jackson Kingsley. The show starts at 3:45pm and runs until 7pm, any 
 and all ages are welcome and yes, there is booze and food.\n\nSo, the 
 only question now is why wouldn't you go? Remember, bring zero dollars
  to get in. But bring some dollars for sustenance (booze and food).\n\
 n\nFor more information visit http://phillytodo.com/events/104-5-summe
 r-block-parties-at-the-piazza
DTSTART:20130504T194500Z
DTEND:20130504T230000Z
CATEGORIES:concert
LOCATION:The Piazza in Northern Liberties
WEBSITE:http://www.radio1045.com/pages/events/block-parties/
URL:http://www.radio1045.com/pages/events/block-parties/
CONTACT:
ORGANIZER;CN="Alex Muller @BrotherlyFood":http://phillytodo.com/profil
 e/AlexMuller
ATTACH;FMTTYPE="image/jpeg":
ATTENDEE;ROLE=REQ-PARTICIPANT;PARTSTAT=ACCEPTED;RSVP=TRUE;CN="Alex Mul
 ler @BrotherlyFood":http://phillytodo.com/profile/AlexMuller
END:VEVENT
END:VCALENDAR
