BEGIN:VCALENDAR
PRODID:NingEventWidget-v1
VERSION:2.0
METHOD:PUBLISH
BEGIN:VEVENT
UID:4320450:Event:40574
DTSTAMP:20260425T162125Z
SUMMARY:100 Bottles of Beer on the River
DESCRIPTION:Just in time to kick off the season, 100 Bottles of Beer o
 n the River is BACK for 2015!\nCome enjoy an afternoon of fun in the s
 un on the city’s largest outdoor deck while sampling over 100 craft 
 beers! There will be live acoustic music, baggo and Unlimited Sampling
  for 4 hours.\nWhat’s Included:\n* Everyone receives a complimentary
  sampling glass with paid admission\n* Unlimited Craft Beer Samples\n*
  100+ amazing craft beers to taste from around the world\nWe will also
  have our Full Food Menu available including Cavs favorites:\n* Philly
  Cheesesteak Spring Rolls\n* Baja grilled corn on the cob\n* Hawaiian 
 Fish Tacos\n* Macho Nachos served in a Turkey Pan!\n* Wings with our h
 ouse made Cavs Sauce\n* Funnel Cake Fries and more.\n \nRain Date: Su
 nday, May 17th (check back to this website to see if the event is post
 poned)\n \nTickets & More Info:  http://100bottlesofbeer.upcomingeve
 nts.com/REFCODE/\n\nFor more information visit http://phillytodo.com/e
 vents/100-bottles-of-beer-on-the-river
DTSTART:20150516T180000Z
DTEND:20150516T230000Z
CATEGORIES:beer, event
LOCATION:Cavanaugh's Riverdeck
WEBSITE:
URL:
CONTACT:
ORGANIZER;CN="UpcomingEvents.com":http://phillytodo.com/profile/Upcomi
 ngEventscom
ATTACH;FMTTYPE="image/jpeg":http://storage.ning.com/topology/rest/1.0/
 file/get/3054986307?profile=original
ATTENDEE;ROLE=REQ-PARTICIPANT;PARTSTAT=ACCEPTED;RSVP=TRUE;CN="Upcoming
 Events.com":http://phillytodo.com/profile/UpcomingEventscom
END:VEVENT
END:VCALENDAR
