BEGIN:VCALENDAR
PRODID:NingEventWidget-v1
VERSION:2.0
METHOD:PUBLISH
BEGIN:VEVENT
UID:4320450:Event:2179
DTSTAMP:20260425T172111Z
SUMMARY:#1 AMAZING LIVE SHOW-THINK PINK FLOYD
DESCRIPTION:The PINK FLOYD experience THINK PINK FLOYD\n\nGO HERE TO L
 ISTEN TO WelcomeToTheMachine\nhttp://www.gakolber.com/Pink/WelcomeToTh
 eMachine.mp3\n\n----------------------------------------------\n------
 ------\nGO HERE TO LISTEN TO PIGS 3 OF A KIND\nhttp://www.gakolber.com
 /Pink/Pigs.mp3\n-----------------------------------------------\n=====
 =======================================\n--------------\n1 AMAZING LIV
 E SHOW-THINK PINK FLOYD\nIf Pink Floyd is your thing, you must seek ou
 t THINK PINK FLOYD~~\n\nhttp://www.thinkpinkfloyd.com\n===============
 ========\nhttp://www.facebook.com/tribute.thinkpinkfloyd\n============
 ==================================\nor\nwww.facebook.com/pages/1-AMAZI
 NG-SHOW-THINK-PINK-FLOYD/478666210533\n(this is our facebook fan page 
 please join us here)SHINE ON~~!~\n====================================
 ===========\nThe True PINK FLOYD experience THINK PINK FLOYD.\n\nExper
 ience the breathtaking performances of the band that has become known 
 as THINK PINK FLOYD!!!!!!\n\nAll you touch and all you SEE is all your
  life will ever be!\n\n\n--- 2010----(( NEXT SHOW))--\n\n\n-----------
 -\nSept 18th MEXICALI LIVE\n1409 Queen Anne Rd\nTeaneck, NJ 07666~~\n2
 01-833-0011\nadvanced $10 ///$12 at the door\n-------------\n\nSUNDAY\
 n.... OCTOBER 10th\nCAMP DIAMOND RIDGE\n1965 Deer Run Drive\nJamison P
 a 18929\nat 6:00 til \" The Dark Side of the Moon\"\nfund raiser for J
 ordan Zandick who is in the battle for his life at age 6\nTHERE WILL B
 E GIFTS ,PRIZES and more. BENIFIT IS FOR JORDAN ZANDICK WHO NEEDS OUR 
 HELP.\nTICKETS BY DONATION ONLY ( generous if applicable) PLEASE ...26
 7-226-0413\n----------------\noct 15th(SWEENEY'S SALOON)\n13639 PHILMO
 UNT AVE PHILA PA 19116\n215 677 3177\n------------------------\nNOV 6 
 Stadium Street Road - Behind Hooter's\n3631 Street Road\nBensalem PA 1
 9020\n(215) 245-8432\n\n------------------------\nTHINK PINK FLOYD\npl
 us a Rush tribute 2 great bands\nNOV 20 Stadium 5 Points\n4145 Woerner
  Avenue\nLevittown, PA 19057-2703\n(215) 943-7450\n-------------------
 -----\nDEC 18th(SWEENEY'S SALOON)\n13639 PHILMOUNT AVE PHILA PA 19116\
 n215 677 3177\n\nA live tribute to Pink Floyd from the Meddle album to
  the Division Bell era,\n(and everything in between)\nTHINK PINK FLOYD
  is the most popular Pink Floyd tribute show,\nauthentic recreation of
  PINK FLOYD.\n\nThink Pink Floyd has built up an enormous repertoire w
 ith\nabout four hours of vintage Floyd material to choose from.\nAnd t
 he band really has all the bases covered:\nFrom the young Pink Floydâ€
 ™s \"meddle\" echeo'sâ€ť (1971)\nthrough the â€ťDark Side Of The Moonâ
 €ť (1973), â€ťWish You Were Hereâ€ť\n(1975) Animals (1977)â€ťThe Wallâ
 €ť (1979) â€ťA Momentary Lapse Of Reasonâ€ť\n(1987) and â€ťThe Divisio
 n Bellâ€ť (1994). plus much more syd and roger legendary music,\na kic
 k ass band and a unique sound, light and film show.(((((Think Pink Flo
 yd)))))\n\nNOW BOOKING CONCERTS! AGENTS WELCOME TO CONTACT US\nhttp://
 www.thinkpinkfloyd.com\nhttp://www.facebook.com/THINKPINKFLOYD1\nhttp:
 //www.youtube.com/thinkpinkfloyd\nhttp://www.twitter.com/thinkpinkfloy
 d\n\nFor more information visit http://phillytodo.com/events/1-amazing
 -live-showthink-pink
DTSTART:20101016T000000Z
DTEND:20101016T060000Z
CATEGORIES:concert
LOCATION:sweeneys
WEBSITE:http://www.facebook.com/tribute.thinkpinkfloyd
URL:http://www.facebook.com/tribute.thinkpinkfloyd
CONTACT:bill
ORGANIZER;CN="think pink floyd":http://phillytodo.com/profile/thinkpin
 kfloyd
ATTACH;FMTTYPE="image/jpeg":http://storage.ning.com/topology/rest/1.0/
 file/get/3054950545?profile=original
ATTENDEE;ROLE=REQ-PARTICIPANT;PARTSTAT=ACCEPTED;RSVP=TRUE;CN="think pi
 nk floyd":http://phillytodo.com/profile/thinkpinkfloyd
END:VEVENT
END:VCALENDAR
